BEGIN:VCALENDAR
VERSION:2.0
PRODID:-//hacksw/handcal//NONSGML v1.0//EN
BEGIN:VEVENT
DTSTART:20230610T210000Z
DTEND:20230611T000000Z
LOCATION:Beginning of High Line \n812, Washington Street \n10014 NEW YORK
ORGANIZER;CN=MARGOT DOYE - USA | New York:MAILTO:margot.doye@edhec.edu
SUMMARY:EDHEC Rendez-vous NYC 2023
DESCRIPTION:  ~REGISTER NOW~\nEDHEC Rendez-Vous New York 2023Saturday, June 10 at 5:00 pmThe High LineFor those who just want to come for a drink, we will meet at 6 pm at Hearth ! Dear Alumni,\nWe are thrilled to...
URL:https://alumni.edhec.edu/en/group/usa-new-york/56/calendar/edhec-rendez-vous-nyc-2023/2023/06/10/20885
BEGIN:VALARM
TRIGGER:-P0DT1H0M0S
ACTION:DISPLAY
END:VALARM
END:VEVENT
END:VCALENDAR