BEGIN:VCALENDAR
VERSION:2.0
PRODID:-//hacksw/handcal//NONSGML v1.0//EN
BEGIN:VEVENT
DTSTART:20230302T173000Z
DTEND:20230302T180000Z
LOCATION:restaurant Apoteek \n18, Rue Rontaunay \n97400 SAINT-DENIS
ORGANIZER;CN=STEPHANIE PAINCHAULT:MAILTO:stephanie.painchault@edhec.edu
SUMMARY:On se rencontre ? Afterwork /  La Réunion
DESCRIPTION:\nRetrouvons-nous pour un moment sympathique et convivial !Que tu sois nouvel arrivant ou que tu connaisses l'île par cœur ... Que tu sois de la grande école, des programmes exécutives  ou d'autres...
URL:https://alumni.edhec.edu/en/event/on-se-rencontre-afterwork-la-reunion/2023/03/02/20761
BEGIN:VALARM
TRIGGER:-P0DT1H0M0S
ACTION:DISPLAY
END:VALARM
END:VEVENT
END:VCALENDAR