BEGIN:VCALENDAR
VERSION:2.0
PRODID:-//hacksw/handcal//NONSGML v1.0//EN
BEGIN:VEVENT
DTSTART:20230131T164500Z
DTEND:20230131T180000Z
LOCATION:Ecole des  Arts Joailliers  \n31, Rue Danielle Casanova \n75001 PARIS
ORGANIZER;CN=ADELINE REGENT:MAILTO:adeline.regent@edhec.edu
SUMMARY:Club Luxe & Art de Vivre  | VISITE GUIDÉE « ORS ET TRÉSORS – 3000 ANS D’ORNEMENTS CHINOIS »
DESCRIPTION:L’École des Arts Joailliers vous invite à découvrir sa sublime exposition qui illustre plus de trois mille ans de travail d’orfèvrerie en Chine, à travers une sélection de chefs-d’œuvre issue de...
URL:https://alumni.edhec.edu/en/event/club-luxe-art-de-vivre-visite-guidee-ors-et-tresors-3000-ans-d-ornements-chinois/2023/01/31/20719
BEGIN:VALARM
TRIGGER:-P0DT1H0M0S
ACTION:DISPLAY
END:VALARM
END:VEVENT
END:VCALENDAR