BEGIN:VCALENDAR
VERSION:2.0
PRODID:-//hacksw/handcal//NONSGML v1.0//EN
BEGIN:VEVENT
DTSTART:20230126T183000Z
DTEND:20230126T200000Z
LOCATION:Hôtel Echiquier  \n38, Rue de l'Échiquier \n75010 PARIS
ORGANIZER;CN=ADELINE REGENT:MAILTO:adeline.regent@edhec.edu
SUMMARY:EDHEC Alumni Paris | Afterwork Club Finance et EDH'EcoBox
DESCRIPTION:Envie de partager votre pratique ? De rencontrer des pairs ? Besoin de développer votre réseau ? Vous êtes au bon endroit ! Le Club Finance Alumni et EDH'EcoBox vous propose cet afterwork de début...
URL:https://alumni.edhec.edu/en/event/edhec-alumni-paris-afterwork-club-finance-et-edh-ecobox/2023/01/26/20714
BEGIN:VALARM
TRIGGER:-P0DT1H0M0S
ACTION:DISPLAY
END:VALARM
END:VEVENT
END:VCALENDAR