BEGIN:VCALENDAR
VERSION:2.0
PRODID:-//hacksw/handcal//NONSGML v1.0//EN
BEGIN:VEVENT
DTSTART:20230209T113000Z
DTEND:20230209T123000Z
LOCATION:https:/us02web.zoom.us/j/86192084376
ORGANIZER;CN=SILVIA MARICHALAR:MAILTO:silvia.marichalar.ext@edhec.edu
SUMMARY:Carrière: Webinar "How to boost your employability and stay on track?"
DESCRIPTION:EDHEC Career Center for life invites you to participate to this webinar:How to boost your employability and stay on track?In a highly competitive and fast changing job market where technology and...
URL:https://alumni.edhec.edu/en/event/carriere-webinar-how-to-boost-your-employability-and-stay-on-track/2023/02/09/20694
BEGIN:VALARM
TRIGGER:-P0DT1H0M0S
ACTION:DISPLAY
END:VALARM
END:VEVENT
END:VCALENDAR