BEGIN:VCALENDAR
VERSION:2.0
PRODID:-//hacksw/handcal//NONSGML v1.0//EN
BEGIN:VEVENT
DTSTART:20230119T153000Z
DTEND:20230119T190000Z
LOCATION:Belgian Beer Café \nKing Salman Bin Abdulaziz Al Saud Street
ORGANIZER;CN=PIERRICK RIBES - Emirats Arabes Unis | Dubai:MAILTO:pierrick.ribes@gmail.com
SUMMARY:EDHEC Alumni Dubai | Welcome Party
DESCRIPTION:EDHEC Alumni Dubai Welcome PartyThursday, 19th January 2023 from 7:30 pm @Belgian Beer Cafe, Souk Madinat Jumeirah\nDear All,Your  EDHEC Alumni Ambassadors in Dubai are happy to invite you for...
URL:https://alumni.edhec.edu/en/group/emirats-arabes-unis-dubai/51/calendar/edhec-alumni-dubai-welcome-party/2023/01/19/20664
BEGIN:VALARM
TRIGGER:-P0DT1H0M0S
ACTION:DISPLAY
END:VALARM
END:VEVENT
END:VCALENDAR