BEGIN:VCALENDAR
VERSION:2.0
PRODID:-//hacksw/handcal//NONSGML v1.0//EN
BEGIN:VEVENT
DTSTART:20230119T111000Z
DTEND:20230119T123000Z
LOCATION:
ORGANIZER;CN=SILVIA MARICHALAR:MAILTO:silvia.marichalar.ext@edhec.edu
SUMMARY:Evénement reporté. Nous vous indiquerons très prochainement la nouvelle date de ce webinaire - Carrière: Webinaire: "Œuvrer pour la transition écologique et sociale dans son métier, c’est possible!"
DESCRIPTION:EDHEC Career Centre for life t’invite à participer au webinaire :Œuvrer pour la transition écologique et sociale dans son métier, c’est possible !Au programme : Quatre salariés de GreenFlex sortis...
URL:https://alumni.edhec.edu/en/event/evenement-reporte-nous-vous-indiquerons-tres-prochainement-la-nouvelle-date-de-ce-webinaire-carriere-webinaire-oeuvrer-pour-la-transition-ecologique-et-sociale-dans-son-metier-c-est-possible/2023/01/19/20650
BEGIN:VALARM
TRIGGER:-P0DT1H0M0S
ACTION:DISPLAY
END:VALARM
END:VEVENT
END:VCALENDAR