BEGIN:VCALENDAR
VERSION:2.0
PRODID:-//hacksw/handcal//NONSGML v1.0//EN
BEGIN:VEVENT
DTSTART:20221116T110000Z
DTEND:20221116T140000Z
LOCATION:La Cave \nFook Moon Building, Shop E, G/F, 56-72 Third St, Sai Ying Pun
ORGANIZER;CN=ANNE FITAN - Chine | Hong Kong:MAILTO:anne.fitan@edhec.com
SUMMARY:EDHEC Alumni Hong Kong - Welcome Party at La Cave
DESCRIPTION:EDHEC Alumni Hong Kong\nWelcome Party Wednesday 16 November from 7:00PM\n@La Cave\nHello everyone,Please join us for a convivial evening at La Cave!A great occasion to catch-up and welcome EDHEC...
URL:https://alumni.edhec.edu/en/group/chine-hong-kong/41/calendar/edhec-alumni-hong-kong-welcome-party-at-la-cave/2022/11/16/20643
BEGIN:VALARM
TRIGGER:-P0DT1H0M0S
ACTION:DISPLAY
END:VALARM
END:VEVENT
END:VCALENDAR