BEGIN:VCALENDAR
VERSION:2.0
PRODID:-//hacksw/handcal//NONSGML v1.0//EN
BEGIN:VEVENT
DTSTART:20221201T110000Z
DTEND:20221201T150000Z
LOCATION:Five Iron \n139, Cecil Street \n069539 SINGAPORE
ORGANIZER;CN=LEANA TRAING - Singapour:MAILTO:traingleana@gmail.com
SUMMARY:EDHEC Alumni Singapore - 2022 Christmas Party
DESCRIPTION:~ PLEASE REGISTER ~ Let's celebrate the close of the year with fun, food and drinks!\nEDHEC ALUMNI SINGAPORE - CHRISTMAS PARTYThursday 1 December 2022, 7pm to 11pmFive Iron Golf Singapore 139 Cecil...
URL:https://alumni.edhec.edu/en/group/singapour/87/calendar/edhec-alumni-singapore-2022-christmas-party/2022/12/01/20641
BEGIN:VALARM
TRIGGER:-P0DT1H0M0S
ACTION:DISPLAY
END:VALARM
END:VEVENT
END:VCALENDAR