BEGIN:VCALENDAR
VERSION:2.0
PRODID:-//hacksw/handcal//NONSGML v1.0//EN
BEGIN:VEVENT
DTSTART:20221201T143000Z
DTEND:20221201T173000Z
LOCATION:AERO BEACH CAFE \n19, Chemin Grand Pourpier \n97460 SAINT PAUL
ORGANIZER;CN=GERALDINE SIMON - France | La Réunion:MAILTO:geraldine.simon@edhec.edu
SUMMARY:EDHEC Alumni La Réunion | Welcome Party
DESCRIPTION:EDHEC Alumni La Réunion\n \nBonjour à tous,Nous avons le plaisir de vous inviter à notre Welcome Party 2022 pour raviver le réseau EDHEC à La Réunion, se retrouver et accueillir les EDHEC récemment...
URL:https://alumni.edhec.edu/en/group/france-la-reunion/127/calendar/edhec-alumni-la-reunion-welcome-party/2022/12/01/20634
BEGIN:VALARM
TRIGGER:-P0DT1H0M0S
ACTION:DISPLAY
END:VALARM
END:VEVENT
END:VCALENDAR