BEGIN:VCALENDAR
VERSION:2.0
PRODID:-//hacksw/handcal//NONSGML v1.0//EN
BEGIN:VEVENT
DTSTART:20221116T233000Z
DTEND:20221117T013000Z
LOCATION:Editor Pizza at Urbanica Fifth Hotel \n803, 5th Street \n33139 MIAMI BEACH
ORGANIZER;CN=FABIEN BERTAULT - USA | Miami:MAILTO:fb@vendome-partners.com
SUMMARY:EDHEC Alumni Miami I NEW DATE: Welcome Party I Urbanica Fifth Hotel
DESCRIPTION:NEW DATE ! \nEDHEC WELCOME PARTY in Miami Wednesday November 16th at 6:30PM Editor Pizza @ Urbanica Fifth Hotel\nDear Miami EDHEC community,   Due to severe weather in the forecast for Wednesday,...
URL:https://alumni.edhec.edu/en/group/usa-miami/135/calendar/edhec-alumni-miami-i-new-date-welcome-party-i-urbanica-fifth-hotel/2022/11/17/20619
BEGIN:VALARM
TRIGGER:-P0DT1H0M0S
ACTION:DISPLAY
END:VALARM
END:VEVENT
END:VCALENDAR