BEGIN:VCALENDAR
VERSION:2.0
PRODID:-//hacksw/handcal//NONSGML v1.0//EN
BEGIN:VEVENT
DTSTART:20221123T193000Z
DTEND:20221123T230000Z
LOCATION:J.W. Sweetman \n1-2, Burgh Quay \nD02 F243 DUBLIN 2
ORGANIZER;CN=GERALDINE SIMON - Ireland | Dublin:MAILTO:geraldine.simon@edhec.edu
SUMMARY:Welcome Party offered by the Apprenticeship Track
DESCRIPTION: Dear Alumni,The EDHEC Apprenticeship Track students will be starting their traditional team-building seminar.This seminar gives the students the opportunity to get to know one another, to work...
URL:https://alumni.edhec.edu/en/group/ireland-dublin/74/calendar/welcome-party-offered-by-the-apprenticeship-track/2022/11/23/20613
BEGIN:VALARM
TRIGGER:-P0DT1H0M0S
ACTION:DISPLAY
END:VALARM
END:VEVENT
END:VCALENDAR