BEGIN:VCALENDAR
VERSION:2.0
PRODID:-//hacksw/handcal//NONSGML v1.0//EN
BEGIN:VEVENT
DTSTART:20230126T080000Z
DTEND:20230126T113000Z
LOCATION:Intermines \n15, Rue Royer-Collard \n75005 PARIS
ORGANIZER;CN=SILVIA MARICHALAR:MAILTO:silvia.marichalar.ext@edhec.edu
SUMMARY:Carrière: Atelier "Identifier et se réapproprier ses solidités"
DESCRIPTION:EDHEC Career Centre for life en partenariat avec Intermines Alumni t'invite à participer à l'atelier:Identifier et se réapproprier ses soliditésUn outil d’auto-pédagogie rogérienne pour construire à...
URL:https://alumni.edhec.edu/en/event/carriere-atelier-identifier-et-se-reapproprier-ses-solidites/2023/01/26/20605
BEGIN:VALARM
TRIGGER:-P0DT1H0M0S
ACTION:DISPLAY
END:VALARM
END:VEVENT
END:VCALENDAR