BEGIN:VCALENDAR
VERSION:2.0
PRODID:-//hacksw/handcal//NONSGML v1.0//EN
BEGIN:VEVENT
DTSTART:20221023T170000Z
DTEND:20221023T200000Z
LOCATION:Badi Utoquai \n50, Utoquai \n8008 ZURICH
ORGANIZER;CN=REBECCA PERRAUD - Suisse Allemande | Zurich:MAILTO:rebecca.perraud@edhec.com
SUMMARY:EDHEC Alumni Zurich | Welcome Party | Fondue am See
DESCRIPTION:Save The Date! EDHEC WELCOME PARTY in ZURICH – Fondue am See Sunday October 23rd 7PM Badi Utoquai   Dear All,   We are pleased to invite you to join our upcoming EDHEC Alumni Welcome Party! This will ...
URL:https://alumni.edhec.edu/en/group/suisse-allemande-zurich/77/calendar/edhec-alumni-zurich-welcome-party-fondue-am-see/2022/10/23/20596
BEGIN:VALARM
TRIGGER:-P0DT1H0M0S
ACTION:DISPLAY
END:VALARM
END:VEVENT
END:VCALENDAR