BEGIN:VCALENDAR
VERSION:2.0
PRODID:-//hacksw/handcal//NONSGML v1.0//EN
BEGIN:VEVENT
DTSTART:20221028T000000Z
DTEND:20221028T040500Z
LOCATION:Terraza Cine Tonala \n261, Tonalá \n06760 CIUDAD DE MEXICO
ORGANIZER;CN=HIPPOLYTE LHUSSIER - Mexique:MAILTO:hippolyte.lhussier@gmail.com
SUMMARY:EDHEC Alumni Mexico |  Afterwork @ Ciné Tonalá
DESCRIPTION:~ Register ~\nAfterwork EDHEC Mexico 2022Thursday, October 27th from 7:00 pm@Ciné Tonala, Roma Sur\nFollowing the success of the EDHEC Rendez-vous on June 30th, with 15 alumni attending, we are happy ...
URL:https://alumni.edhec.edu/en/group/mexique/119/calendar/edhec-alumni-mexico-afterwork-cine-tonala/2022/10/28/20592
BEGIN:VALARM
TRIGGER:-P0DT1H0M0S
ACTION:DISPLAY
END:VALARM
END:VEVENT
END:VCALENDAR