BEGIN:VCALENDAR
VERSION:2.0
PRODID:-//hacksw/handcal//NONSGML v1.0//EN
BEGIN:VEVENT
DTSTART:20221109T190000Z
DTEND:20221109T230000Z
LOCATION:Dirty Martini Monument \n1, Lovat Lane \nEC3R 8DT LONDON
ORGANIZER;CN=AUDREY HAVERKAMP-COURTY - UK | London:MAILTO:audrey.haverkamp@edhec.edu
SUMMARY:Welcome Party London - 9 November at 7pm - Dirty Martini Monument
DESCRIPTION:WELCOME PARTY LONDONWednesday 9 November 2022 ∣ 7:00pm-11pmDirty Martini Monument\n Dear all,Following the successful EDHEC RDV last June, we are delighted to invite you to the other annualflagship...
URL:https://alumni.edhec.edu/en/group/uk-london/86/calendar/welcome-party-london-9-november-at-7pm-dirty-martini-monument/2022/11/09/20583
BEGIN:VALARM
TRIGGER:-P0DT1H0M0S
ACTION:DISPLAY
END:VALARM
END:VEVENT
END:VCALENDAR