BEGIN:VCALENDAR
VERSION:2.0
PRODID:-//hacksw/handcal//NONSGML v1.0//EN
BEGIN:VEVENT
DTSTART:20221116T171500Z
DTEND:20221116T213000Z
LOCATION:Musée Horta \n27, Rue Américaine \n1060 SAINT-GILLES
ORGANIZER;CN=JULIET BOURELY - Belgique:MAILTO:juliet.bourely@gmail.com
SUMMARY:EDHEC Alumni Brussels  | Welcome Party at Musée Horta November 16th
DESCRIPTION:EDHEC Alumni Brussels\nWelcome Party Wednesday 16 November at 18:15\n@Musée Horta\nWelcome newcomers to Brussels! For this autumn, we are offering you an exclusive visit to the Horta museum, a jewel...
URL:https://alumni.edhec.edu/en/group/belgique/85/calendar/edhec-alumni-brussels-welcome-party-at-musee-horta-november-16th/2022/11/16/20582
BEGIN:VALARM
TRIGGER:-P0DT1H0M0S
ACTION:DISPLAY
END:VALARM
END:VEVENT
END:VCALENDAR