BEGIN:VCALENDAR
VERSION:2.0
PRODID:-//hacksw/handcal//NONSGML v1.0//EN
BEGIN:VEVENT
DTSTART:20221013T170000Z
DTEND:20221013T200000Z
LOCATION:IT - Italian Trattoria \n1, Place Viasilva \n35510 CESSON-SEVIGNE
ORGANIZER;CN=ANTOINE LEURENT - France | Ouest (Nantes et Rennes):MAILTO:antoineleurent@gmail.com
SUMMARY:EDHEC Alumni Rennes | Welcome Party
DESCRIPTION:EDHEC Alumni Rennes\n \nRejoignez la Welcome Party pour intégrer les nouveaux ou anciens diplômés s'installant dans la région et pour dynamiser votre réseau local.\nRendez-vous :Jeudi 13 octobre 2022A...
URL:https://alumni.edhec.edu/en/group/france-ouest-nantes-et-rennes/91/calendar/edhec-alumni-rennes-welcome-party/2022/10/13/20570
BEGIN:VALARM
TRIGGER:-P0DT1H0M0S
ACTION:DISPLAY
END:VALARM
END:VEVENT
END:VCALENDAR