BEGIN:VCALENDAR
VERSION:2.0
PRODID:-//hacksw/handcal//NONSGML v1.0//EN
BEGIN:VEVENT
DTSTART:20220930T170000Z
DTEND:20220930T200000Z
LOCATION:Wine More Time \n8, Rue Saint-James \n33000 BORDEAUX
ORGANIZER;CN=CATHERINE THEVENET - France | Nouvelle-Aquitaine (Bordeaux):MAILTO:catwom3318@gmail.com
SUMMARY:EDHEC Alumni Aquitaine | Welcome Party - Afterwork de rentrée
DESCRIPTION: \nEDHEC Alumni Nouvelle Aquitainevous propose un afterwork de rentrée\nVendredi 30 septembre A partir de 19 heuresAu Wine More Time8 rue Saint James à Bordeaux Rejoignez la Welcome Party pour...
URL:https://alumni.edhec.edu/en/group/france-nouvelle-aquitaine-bordeaux/92/calendar/edhec-alumni-aquitaine-welcome-party-afterwork-de-rentree/2022/09/30/20551
BEGIN:VALARM
TRIGGER:-P0DT1H0M0S
ACTION:DISPLAY
END:VALARM
END:VEVENT
END:VCALENDAR