BEGIN:VCALENDAR
VERSION:2.0
PRODID:-//hacksw/handcal//NONSGML v1.0//EN
BEGIN:VEVENT
DTSTART:20220512T160000Z
DTEND:20220512T170000Z
LOCATION:
ORGANIZER;CN=GERALDINE SIMON:MAILTO:geraldine.simon@edhec.edu
SUMMARY:HEC Alumni | "NFTs ecosystems, NFT Economic & Legal value" - 6 panelists Round table
DESCRIPTION: :torn_calendar: SAVE THE DATE : The 12th of May 2022 - 18:00-19:00 (GMT+2) : \n:collision: "Overview of NFTs (Non Fungible Tokens), their legal and economic value” with amazing panelists:\nJulien...
URL:https://alumni.edhec.edu/en/event/hec-alumni-nfts-ecosystems-nft-economic-legal-value-6-panelists-round-table/2022/05/12/20342
BEGIN:VALARM
TRIGGER:-P0DT1H0M0S
ACTION:DISPLAY
END:VALARM
END:VEVENT
END:VCALENDAR