BEGIN:VCALENDAR
VERSION:2.0
PRODID:-//hacksw/handcal//NONSGML v1.0//EN
BEGIN:VEVENT
DTSTART:20211012T180000Z
DTEND:20211012T190000Z
LOCATION:
ORGANIZER;CN=GERALDINE SIMON:MAILTO:geraldine.simon@edhec.edu
SUMMARY:HEC Alumni  UK: Masterclass with Olivier Sibony - About NOISE: A Flaw in Human Judgment
DESCRIPTION:HEC in the UK is delighted to announce the return of in-person / hybrid events with an exceptional Masterclass at the Institut français du Royaume-Uni: \nMASTERCLASS About NOISE: A Flaw in Human...
URL:https://alumni.edhec.edu/en/event/hec-alumni-uk-masterclass-with-olivier-sibony-about-noise-a-flaw-in-human-judgment/2021/10/12/19983
BEGIN:VALARM
TRIGGER:-P0DT1H0M0S
ACTION:DISPLAY
END:VALARM
END:VEVENT
END:VCALENDAR