BEGIN:VCALENDAR
VERSION:2.0
PRODID:-//hacksw/handcal//NONSGML v1.0//EN
BEGIN:VEVENT
DTSTART:20210921T080000Z
DTEND:20210921T140500Z
LOCATION:
ORGANIZER;CN=STEPHANIE PAINCHAULT:MAILTO:stephanie.painchault@edhec.edu
SUMMARY:Webinar: The climate deserves better than 12%!
DESCRIPTION:\nTuesday, September 21, 2021 - 2 sessions: 10am or 5pm Central European Summer Time\nFor several years the financial industry has been multiplying initiatives to measure companies' climate...
URL:https://alumni.edhec.edu/en/event/webinar-the-climate-deserves-better-than-12/2021/09/21/19958
BEGIN:VALARM
TRIGGER:-P0DT1H0M0S
ACTION:DISPLAY
END:VALARM
END:VEVENT
END:VCALENDAR