BEGIN:VCALENDAR
VERSION:2.0
PRODID:-//hacksw/handcal//NONSGML v1.0//EN
BEGIN:VEVENT
DTSTART:20210923T120000Z
DTEND:20210923T130500Z
LOCATION:
ORGANIZER;CN=STEPHANIE PAINCHAULT:MAILTO:stephanie.painchault@edhec.edu
SUMMARY:Webinaire : Le climat mérite mieux que 12%
DESCRIPTION:Depuis plusieurs années, l'industrie financière a multiplié les initiatives pour mesurer les performances et engagements climatiques des entreprises. Il ne se passe pas un jour sans que sur la base de...
URL:https://alumni.edhec.edu/en/event/webinaire-le-climat-merite-mieux-que-12/2021/09/23/19957
BEGIN:VALARM
TRIGGER:-P0DT1H0M0S
ACTION:DISPLAY
END:VALARM
END:VEVENT
END:VCALENDAR