BEGIN:VCALENDAR
VERSION:2.0
PRODID:-//hacksw/handcal//NONSGML v1.0//EN
BEGIN:VEVENT
DTSTART:20210525T170000
DTEND:20210603T170000
LOCATION:
ORGANIZER;CN=CASSANDRA PITTMAN:MAILTO:
SUMMARY:TECH WEEKS Virtual Career Treks for students and young graduates
DESCRIPTION:TECH WEEKS Virtual Career Treks. If ever there was a year to teach us how valuable technology is to our lives, it has been the last one! If you’re interested in learning more about Europe’s tech...
URL:https://alumni.edhec.edu/en/event/tech-weeks-virtual-career-treks-for-students-and-young-graduates/2021/05/25/19825
BEGIN:VALARM
TRIGGER:-P0DT1H0M0S
ACTION:DISPLAY
END:VALARM
END:VEVENT
END:VCALENDAR