BEGIN:VCALENDAR
VERSION:2.0
PRODID:-//hacksw/handcal//NONSGML v1.0//EN
BEGIN:VEVENT
DTSTART:20210316T183000
DTEND:20210316T200000
LOCATION:
ORGANIZER;CN=EDHEC Alumni:MAILTO:
SUMMARY:Carrière: Apéro conférence Wats4U "L’impact du covid sur le secteur culturel"
DESCRIPTION:\nEDHEC Career Centre for life vous invite à participer à l’apéro conférence Wats4U :\nL’impact du covid sur le secteur culturel\nLes salles de cinéma, le spectacle vivant, les musées te...
URL:https://alumni.edhec.edu/en/event/carriere-apero-conference-wats4u-l-impact-du-covid-sur-le-secteur-culturel/2021/03/16/19784
BEGIN:VALARM
TRIGGER:-P0DT1H0M0S
ACTION:DISPLAY
END:VALARM
END:VEVENT
END:VCALENDAR