BEGIN:VCALENDAR
VERSION:2.0
PRODID:-//hacksw/handcal//NONSGML v1.0//EN
BEGIN:VEVENT
DTSTART:20121206T193000
DTEND:20121206T220000
LOCATION:EDHEC Business School PARIS \n18 rue du Quatre Septembre \n75002 PARIS
ORGANIZER;CN=EDHEC Alumni:MAILTO:
SUMMARY:The Culture and Media Club invites you to meet arts and media Edhec alumni!
DESCRIPTION:Event: The Culture and Media Club is delighted to showcase our line-up of arts and media professionals who studied at Edhec!\nAtypical Edhec careers where the school nonetheless played a leading...
URL:https://alumni.edhec.edu/en/event/the-culture-and-media-club-invites-you-to-meet-arts-and-media-edhec-alumni/2012/12/06/18108
BEGIN:VALARM
TRIGGER:-P0DT1H0M0S
ACTION:DISPLAY
END:VALARM
END:VEVENT
END:VCALENDAR