BEGIN:VCALENDAR
VERSION:2.0
PRODID:-//hacksw/handcal//NONSGML v1.0//EN
BEGIN:VEVENT
DTSTART:20151001T190000
DTEND:20151001T233000
LOCATION:Gadiamb \nRue Roland Garros \n97400 Saint-Denis, La Réunion
ORGANIZER;CN=EDHEC Alumni:MAILTO:
SUMMARY:Welcome Party La réunion : SAVE THE DATE
DESCRIPTION: \nFaciliter votre intégration, provoquer des rencontres, générer des opportunités... la Welcome Party est peut-être la meilleure manière de commencer votre année.\nAu restaurant ou autour d'un verre,...
URL:https://alumni.edhec.edu/en/event/welcome-party-la-reunion-save-the-date/2015/10/01/16077
BEGIN:VALARM
TRIGGER:-P0DT1H0M0S
ACTION:DISPLAY
END:VALARM
END:VEVENT
END:VCALENDAR