BEGIN:VCALENDAR
VERSION:2.0
PRODID:-//hacksw/handcal//NONSGML v1.0//EN
BEGIN:VEVENT
DTSTART:20160414T184500
DTEND:20160414T220000
LOCATION:Edhec Paris \n16 rue du 4 Septembre \n75002 Paris & Streaming
ORGANIZER;CN=EDHEC Alumni:MAILTO:
SUMMARY:The future of Media Business Models
DESCRIPTION:EDHEC Alumni Culture & Media Club is delighted to invite you to its new event April 14st  at 19 h 00 at the Parisian headquarters of Edhec Business School, 16 Street from 4 September in Paris.\nThe...
URL:https://alumni.edhec.edu/en/event/the-future-of-media-business-models/2016/04/14/15781
BEGIN:VALARM
TRIGGER:-P0DT1H0M0S
ACTION:DISPLAY
END:VALARM
END:VEVENT
END:VCALENDAR