BEGIN:VCALENDAR
VERSION:2.0
PRODID:-//hacksw/handcal//NONSGML v1.0//EN
BEGIN:VEVENT
DTSTART:20161201T190000
DTEND:20161201T233000
LOCATION:Campus EDHEC de Paris \n18 rue du Quatre Septembre \n75002 Paris & Streaming
ORGANIZER;CN=EDHEC Alumni:MAILTO:
SUMMARY:Culture & Business : New financing methods and public/private relations
DESCRIPTION:The Culture and Media club is pleased to invite you to a conference entitled:\nNew financing methods and public/private relations in culture & business\nThursday 1 December at 7 pm\non EDHEC’s Paris...
URL:https://alumni.edhec.edu/en/event/culture-business-new-financing-methods-and-public-private-relations/2016/12/01/15478
BEGIN:VALARM
TRIGGER:-P0DT1H0M0S
ACTION:DISPLAY
END:VALARM
END:VEVENT
END:VCALENDAR