BEGIN:VCALENDAR
VERSION:2.0
PRODID:-//hacksw/handcal//NONSGML v1.0//EN
BEGIN:VEVENT
DTSTART:20210129T090000
DTEND:20210129T100000
LOCATION:
ORGANIZER;CN=EDHEC Alumni:MAILTO:
SUMMARY:US Webinar: The Silicon Valley Ecosystem
DESCRIPTION:Join us on January 29 @ 9am PST (18h CET) for a webinar by\nLaurence Fabre, Executive Director of the French American Chamber of Commerce in San Francisco:\nIntroduction to the San Francisco Bay Area:...
URL:https://alumni.edhec.edu/en/event/us-webinar-the-silicon-valley-ecosystem/2021/01/29/13296
BEGIN:VALARM
TRIGGER:-P0DT1H0M0S
ACTION:DISPLAY
END:VALARM
END:VEVENT
END:VCALENDAR